BEGIN:VCALENDAR
VERSION:2.0
PRODID:-//Stampede Breakfast 2025 - ECPv6.14.0//NONSGML v1.0//EN
CALSCALE:GREGORIAN
METHOD:PUBLISH
X-WR-CALNAME:Stampede Breakfast 2025
X-ORIGINAL-URL:https://stampedebreakfast.ca
X-WR-CALDESC:Events for Stampede Breakfast 2025
REFRESH-INTERVAL;VALUE=DURATION:PT1H
X-Robots-Tag:noindex
X-PUBLISHED-TTL:PT1H
BEGIN:VTIMEZONE
TZID:America/Chicago
BEGIN:DAYLIGHT
TZOFFSETFROM:-0600
TZOFFSETTO:-0500
TZNAME:CDT
DTSTART:20240310T080000
END:DAYLIGHT
BEGIN:STANDARD
TZOFFSETFROM:-0500
TZOFFSETTO:-0600
TZNAME:CST
DTSTART:20241103T070000
END:STANDARD
END:VTIMEZONE
BEGIN:VEVENT
DTSTART;TZID=America/Chicago:20240712T073000
DTEND;TZID=America/Chicago:20240712T103000
DTSTAMP:20260420T034018
CREATED:20240703T021014Z
LAST-MODIFIED:20240703T021014Z
UID:5426-1720769400-1720780200@stampedebreakfast.ca
SUMMARY:Venvi The Edgemont Stampede Breakfast
DESCRIPTION:Calgary Stampede is just around the corner and you know what that means…Pancake Breakfasts! Join us on Friday\, July 12th between 730AM and 1030AM at 80 Edenwold Dr NW for some excellent viddles\, great music and laughs with friends!
URL:https://stampedebreakfast.ca/event/venvi-the-edgemont-stampede-breakfast/
LOCATION:Venvi The Edgemont\, 80 Edenwold Dr NW\, Calgary\, T3A 5R9
CATEGORIES:Free Stampede Breakfast,North West Calgary,Stampede Breakfast
ATTACH;FMTTYPE=image/jpeg:https://stampedebreakfast.ca/wp-content/uploads/2024/07/449841320_122160471524162350_8024624124656231142_n.jpg
END:VEVENT
BEGIN:VEVENT
DTSTART;TZID=America/Chicago:20240712T073000
DTEND;TZID=America/Chicago:20240712T113000
DTSTAMP:20260420T034018
CREATED:20240702T233315Z
LAST-MODIFIED:20240702T233315Z
UID:5414-1720769400-1720783800@stampedebreakfast.ca
SUMMARY:SMS Equipment Calgary Stampede Breakfast
DESCRIPTION:SMS Equipment is excited to have you join us at our annual stampede breakfast! \nOn July 12th\, 7:30 – 11:30 AM\, come to our Calgary branch location at 3320 50 Ave SE to eat breakfast\, try the donuts from the donut truck\, listen to live music by The Calverts\, and enter to win your chance at four tickets to the Calgary Stampeders vs. BC Lions on July 21st. \nWe are excited to host you and look forward to seeing you! \nRegister Now: https://www.eventbrite.ca/e/sms-equipment-calgary-stampede-breakfast-2024-tickets-925379804907?aff=oddtdtcreator&utm_content=188575424&utm_medium=social&utm_source=facebook&hss_channel=fbp-117392754992344
URL:https://stampedebreakfast.ca/event/sms-equipment-calgary-stampede-breakfast/
LOCATION:SMS Equipment Inc.\, 3320 50 Ave SE\, Calgary\, AB\, T2B 3J4\, Canada
CATEGORIES:Free Stampede Breakfast,South East Calgary,Stampede Breakfast
ATTACH;FMTTYPE=image/jpeg:https://stampedebreakfast.ca/wp-content/uploads/2024/07/3000.jpg
END:VEVENT
BEGIN:VEVENT
DTSTART;TZID=America/Chicago:20240712T073000
DTEND;TZID=America/Chicago:20240712T113000
DTSTAMP:20260420T034018
CREATED:20240704T173432Z
LAST-MODIFIED:20240704T173432Z
UID:5513-1720769400-1720783800@stampedebreakfast.ca
SUMMARY:Bluebird Self Storage and Great White Pancake Breakfast
DESCRIPTION:We are excited to invite you to our first annual Stampede Breakfast\, hosted by Bluebird Self Storage and Great White Car Wash! \nDate: July 12th\, 2024\nTime: 7:30am – 11:30am\nLocation: 4046 – 96 Ave SE \nCome join us for a morning filled with delicious food and fun!
URL:https://stampedebreakfast.ca/event/bluebird-self-storage-and-great-white-pancake-breakfast-2/
ATTACH;FMTTYPE=image/png:https://stampedebreakfast.ca/wp-content/uploads/2024/07/Pancake-Breakfast-flyer-96-Ave-2.png
END:VEVENT
BEGIN:VEVENT
DTSTART;TZID=America/Chicago:20240712T083000
DTEND;TZID=America/Chicago:20240712T103000
DTSTAMP:20260420T034018
CREATED:20240614T023614Z
LAST-MODIFIED:20240614T023614Z
UID:4786-1720773000-1720780200@stampedebreakfast.ca
SUMMARY:Calgary Co-op's free Pancake Breakfasts
DESCRIPTION:Yahoo! Rally the family and celebrate with your community at Calgary Co-op’s free Pancake Breakfasts. Stop by and experience delicious food\, live music\, fun activities\, and more. \nJuly 4 at Calgary Co-op Quarry Park\nJuly 8 at Calgary Co-op Richmond Road\nJuly 10 at Calgary Co-op Dalhousie\nJuly 12 at Calgary Co-op Shawnessy \n 
URL:https://stampedebreakfast.ca/event/calgary-co-ops-free-pancake-breakfasts-2024-07-12/
CATEGORIES:Free Stampede Breakfast,Stampede Breakfast
ATTACH;FMTTYPE=image/png:https://stampedebreakfast.ca/wp-content/uploads/2024/06/19117-2024-Pancake-Breakfast-Digital_1080x1080_2_Final-1024x1024-1.png
END:VEVENT
BEGIN:VEVENT
DTSTART;TZID=America/Chicago:20240712T083000
DTEND;TZID=America/Chicago:20240712T103000
DTSTAMP:20260420T034018
CREATED:20240624T141808Z
LAST-MODIFIED:20240624T141808Z
UID:5102-1720773000-1720780200@stampedebreakfast.ca
SUMMARY:Fluor Rope Square - Chuckwagon Breakfast
DESCRIPTION:Get your flapjacks and bacon hot off the griddles from the back of the authentic Cowboys Rangeland Derby Chuckwagons and Fluor Smokies at Fluor Rope Square. You might even get to meet one of the drivers! Fluor Rope Square serves up our famous bacon pancakes daily.
URL:https://stampedebreakfast.ca/event/fluor-rope-square-chuckwagon-breakfast-2024-07-12/
LOCATION:Olympic Plaza\, 237 8 Ave SE\, Calgary\, Alberta\,  T2G 5C3\, Canada
CATEGORIES:Downtown Calgary,Free Stampede Breakfast,Stampede Breakfast
ATTACH;FMTTYPE=image/jpeg:https://stampedebreakfast.ca/wp-content/uploads/2024/06/48285182842_80483427bf_c.jpg
ORGANIZER;CN="Calgary Stampede Downtown Attractions Committee":MAILTO:mesomers19@gmail.com
END:VEVENT
BEGIN:VEVENT
DTSTART;TZID=America/Chicago:20240712T090000
DTEND;TZID=America/Chicago:20240712T110000
DTSTAMP:20260420T034018
CREATED:20240613T022058Z
LAST-MODIFIED:20240613T171436Z
UID:4733-1720774800-1720782000@stampedebreakfast.ca
SUMMARY:Genesis Centre Stampede Breakfast
DESCRIPTION:Yeehaw! Get ready to kick off your Stampede celebrations with a hearty breakfast and loads of fun at our upcoming Stampede Breakfast on July 12th from 9 AM to 11 AM at the Genesis Centre’s south parking lot.\n\n\n\nThis is a family-friendly event where free pancakes & sausages will be served along with fun interactive games\, live performances\, activities\, and exhibitor booths to enjoy.\n\n\n\nPlus\, we’re teaming up with the Calgary Food Bank to support those in need. If you’d like to contribute\, please bring along non-perishable food or other items for donations\n\n\n\nDon’t miss out on this fantastic community gathering. Mark your calendars\, bring your friends and family\, and let’s make this Stampede Breakfast a memorable one! See you there!
URL:https://stampedebreakfast.ca/event/genesis-centre-stampede-breakfast/
LOCATION:Genesis Centre\, 7555 Falconridge Boulevard NE\, Calgary\, Genesis Centre\, 7555 Falconridge Boulevard NE\, Calgary\, CALGARY\, ALBERTA\, T3J 0C9\, Canada
CATEGORIES:Free Stampede Breakfast,North East Calgary,Stampede Breakfast
ATTACH;FMTTYPE=image/jpeg:https://stampedebreakfast.ca/wp-content/uploads/2024/06/448157958_885090650315439_7551289811368872415_n.jpg
END:VEVENT
BEGIN:VEVENT
DTSTART;TZID=America/Chicago:20240712T090000
DTEND;TZID=America/Chicago:20240712T110000
DTSTAMP:20260420T034018
CREATED:20240614T230945Z
LAST-MODIFIED:20240614T233459Z
UID:4847-1720774800-1720782000@stampedebreakfast.ca
SUMMARY:Calgary Stampede Caravan Breakfast - Rocky Ridge YMCA
DESCRIPTION:Pancake breakfasts are a time honoured tradition of the Calgary Stampede for over 100 years. The Calgary Stampede Caravan Committee provides free breakfasts\, entertainment and western hospitality all over Calgary in July each year. \n  \nRocky Ridge YMCA at Rocky Ridge Road NW: July 12\, 9 a.m. to 11 a.m. \n 
URL:https://stampedebreakfast.ca/event/calgary-stampede-caravan-breakfasts-rocky-ridge-ymca/
LOCATION:Shane Homes YMCA at Rocky Ridge\, 11300 Rocky Ridge NW\, Calgary\, Alberta\, T3G 5H3\, Canada
CATEGORIES:Free Stampede Breakfast,Stampede Breakfast
ATTACH;FMTTYPE=image/jpeg:https://stampedebreakfast.ca/wp-content/uploads/2024/06/2222.jpg
END:VEVENT
BEGIN:VEVENT
DTSTART;TZID=America/Chicago:20240712T090000
DTEND;TZID=America/Chicago:20240712T110000
DTSTAMP:20260420T034018
CREATED:20240614T230945Z
LAST-MODIFIED:20240614T233612Z
UID:4849-1720774800-1720782000@stampedebreakfast.ca
SUMMARY:Calgary Stampede Caravan Breakfast - Genesis
DESCRIPTION:Pancake breakfasts are a time honoured tradition of the Calgary Stampede for over 100 years. The Calgary Stampede Caravan Committee provides free breakfasts\, entertainment and western hospitality all over Calgary in July each year. \nGenesis at #10 7555 Falconridge Boulevard NE: July 12\, 9 a.m. to 11 a.m. \n 
URL:https://stampedebreakfast.ca/event/calgary-stampede-caravan-breakfasts-genesis/
LOCATION:Genesis Centre\, 7555 Falconridge Blvd NE #10\, Calgary\, Alberta\, T3J 0C9\, Canada
CATEGORIES:Free Stampede Breakfast,Stampede Breakfast
ATTACH;FMTTYPE=image/jpeg:https://stampedebreakfast.ca/wp-content/uploads/2024/06/2222.jpg
END:VEVENT
BEGIN:VEVENT
DTSTART;TZID=America/Chicago:20240712T090000
DTEND;TZID=America/Chicago:20240712T110000
DTSTAMP:20260420T034018
CREATED:20240620T180634Z
LAST-MODIFIED:20240620T180634Z
UID:4993-1720774800-1720782000@stampedebreakfast.ca
SUMMARY:Stampede Breakfast at Shane Homes YMCA at Rocky Ridge
DESCRIPTION:Shine on bright and early with us! Saddle up on July 12th and join us at Stampede Breakfast at Shane Homes YMCA at Rocky Ridge for a Stampede breakfast filled with food\, fun and a few surprises. Check out YMCA Calgary’s full list of Stampede breakfasts here! 
URL:https://stampedebreakfast.ca/event/stampede-breakfast-at-shane-homes-ymca-at-rocky-ridge/
LOCATION:Shane Homes YMCA at Rocky Ridge\, 11300 Rocky Ridge Rd NW\, Calgary\, AB\, T3G 5H3\, Canada
CATEGORIES:Free Stampede Breakfast,North Calgary,North West Calgary,Stampede Breakfast
ATTACH;FMTTYPE=image/png:https://stampedebreakfast.ca/wp-content/uploads/2024/06/Stampede-pic-4.png
ORGANIZER;CN="YMCA Calgary":MAILTO:communications@calgary.ymca.ca
END:VEVENT
BEGIN:VEVENT
DTSTART;TZID=America/Chicago:20240712T090000
DTEND;TZID=America/Chicago:20240712T120000
DTSTAMP:20260420T034018
CREATED:20240620T113907Z
LAST-MODIFIED:20240620T113907Z
UID:4974-1720774800-1720785600@stampedebreakfast.ca
SUMMARY:ABM College Stampede Breakfast 2024
DESCRIPTION:ABM College is holding a FREE-FOR-ALL Stampede Breakfast on: \nFriday\, July 12th\, 2024\n9:00 am – 12:00 pm\nABM College – Calgary Campus\, 112 28 St SE #200\, Calgary\, AB T2A 6J9\n(5 min walk from Franklin LRT) \nJoin us with your family and kids! Enjoy FREE Food\, Fun\, Entertainment\, Games\, Prizes\, and even MASSAGES on us! (Halal food will be served\, no pork) \nNo RSVP is needed. We look forward to seeing you! Yeehaw!!!
URL:https://stampedebreakfast.ca/event/abm-college-stampede-breakfast-2024/
LOCATION:ABM College\, 3880 29 Street NE\, Calgary\, Alberta\, T1Y 6B6\, Canada
CATEGORIES:Free Stampede Breakfast,South East Calgary,Stampede Breakfast
ATTACH;FMTTYPE=image/jpeg:https://stampedebreakfast.ca/wp-content/uploads/2024/06/44444.jpg
END:VEVENT
BEGIN:VEVENT
DTSTART;TZID=America/Chicago:20240712T100000
DTEND;TZID=America/Chicago:20240712T120000
DTSTAMP:20260420T034018
CREATED:20240708T234424Z
LAST-MODIFIED:20240708T234424Z
UID:5622-1720778400-1720785600@stampedebreakfast.ca
SUMMARY:The Crisp Apple 1st Annual Stampede Breakfast
DESCRIPTION:Join us a free Stampede Breakfast on Friday July 12th between 10am-12pm – Scotia Bank parking Lot 2505-114 Ave SE\n\n\nSponsored By: The Crisp Apple & Scotia Bank\n\n\nWe hope see you all and thank you very much for the business!
URL:https://stampedebreakfast.ca/event/the-crisp-apple-1st-annual-stampede-breakfast/
LOCATION:2505-114 Ave SE\, 2505-114 Ave SE\, Calgary\, Alberta\, T2Z 3E9\, Canada
CATEGORIES:Free Stampede Breakfast
ATTACH;FMTTYPE=image/jpeg:https://stampedebreakfast.ca/wp-content/uploads/2024/07/449855166_881228440693754_4984160789194241995_n.jpg
ORGANIZER;CN="The Crisp Apple and Scotiabank":MAILTO:info@crispapple.ca
END:VEVENT
BEGIN:VEVENT
DTSTART;TZID=America/Chicago:20240712T100000
DTEND;TZID=America/Chicago:20240712T130000
DTSTAMP:20260420T034018
CREATED:20240610T234229Z
LAST-MODIFIED:20240610T234229Z
UID:4677-1720778400-1720789200@stampedebreakfast.ca
SUMMARY:Heritage College Annual FREE Stampede Breakfast
DESCRIPTION:YAHOO! Saddle up and mosey on down to Heritage College’s Annual FREE Stampede Breakfast on July 12 at our Sunridge Campus from 10 AM to 1 PM! Meet our rootin’ tootin’ staff; fill yer belly with a  FREE breakfast with freshly cooked pancakes\, turkey sausages\, coffee and juice; and take a stroll around campus. Don’t miss out on the fun – see ya there\, partner!
URL:https://stampedebreakfast.ca/event/heritage-college-annual-free-stampede-breakfast/
LOCATION:Heritage College\, 3250 Sunridge Way Northeast\, Unit 22\, Calgary\, AB\, T1Y 7K4\, Canada
CATEGORIES:North East Calgary
ATTACH;FMTTYPE=image/png:https://stampedebreakfast.ca/wp-content/uploads/2024/06/Beige-and-Brown-Rodeo-Show-Instagram-Post.png
ORGANIZER;CN="Heritage College":MAILTO:info@heritage-college.ca
END:VEVENT
BEGIN:VEVENT
DTSTART;TZID=America/Chicago:20240712T100000
DTEND;TZID=America/Chicago:20240712T130000
DTSTAMP:20260420T034018
CREATED:20240613T032302Z
LAST-MODIFIED:20240613T032302Z
UID:4752-1720778400-1720789200@stampedebreakfast.ca
SUMMARY:Aquinas College SW Stampede Breakfast
DESCRIPTION:Join Us for Aquinas College Stampede Breakfast!\n\n\n\nWe are excited to invite everyone to our FREE Stampede Breakfast on July 12\, 2024\, from 10:00 AM to 1:00 PM (while supplies last). Come and enjoy a delicious breakfast with us and celebrate the Stampede spirit! Bring your family and friends—everyone is welcome!
URL:https://stampedebreakfast.ca/event/aquinas-college-sw-stampede-breakfast/
LOCATION:Aquinas College\, 9705 Horton Rd SW\, Calgary\, AB\, T2V 2X5\, Canada
CATEGORIES:Free Stampede Breakfast,South West Calgary,Stampede Breakfast
ATTACH;FMTTYPE=image/jpeg:https://stampedebreakfast.ca/wp-content/uploads/2024/06/447883525_340843135699689_8746911121640114461_n.jpg
END:VEVENT
END:VCALENDAR