BEGIN:VCALENDAR
VERSION:2.0
PRODID:-//Stampede Breakfast 2025 - ECPv6.14.0//NONSGML v1.0//EN
CALSCALE:GREGORIAN
METHOD:PUBLISH
X-WR-CALNAME:Stampede Breakfast 2025
X-ORIGINAL-URL:https://stampedebreakfast.ca
X-WR-CALDESC:Events for Stampede Breakfast 2025
REFRESH-INTERVAL;VALUE=DURATION:PT1H
X-Robots-Tag:noindex
X-PUBLISHED-TTL:PT1H
BEGIN:VTIMEZONE
TZID:America/Chicago
BEGIN:DAYLIGHT
TZOFFSETFROM:-0600
TZOFFSETTO:-0500
TZNAME:CDT
DTSTART:20250309T080000
END:DAYLIGHT
BEGIN:STANDARD
TZOFFSETFROM:-0500
TZOFFSETTO:-0600
TZNAME:CST
DTSTART:20251102T070000
END:STANDARD
END:VTIMEZONE
BEGIN:VEVENT
DTSTART;TZID=America/Chicago:20250706T070000
DTEND;TZID=America/Chicago:20250706T110000
DTSTAMP:20260420T033405
CREATED:20250411T045431Z
LAST-MODIFIED:20250617T135311Z
UID:5825-1751785200-1751799600@stampedebreakfast.ca
SUMMARY:Stampede Breakfast Thai Style - Free event
DESCRIPTION:Juree’s Thai Place Restaurant annual Thai style breakfast for Stampede!!! Free event for all. Live entertainment including traditional Thai dancing.
URL:https://stampedebreakfast.ca/event/stampede-breakfast-thai-style-free-event/
LOCATION:Juree’s Thai Place Restaurant\, 2055 16 Ave NW\, Calgary\, T2K3M8
CATEGORIES:Free Stampede Breakfast
ORGANIZER;CN="Juree's Thai Place Restaurant":MAILTO:Chaja.thaiplace@gmail.com
END:VEVENT
END:VCALENDAR