BEGIN:VCALENDAR
VERSION:2.0
PRODID:-//Stampede Breakfast 2025 - ECPv6.14.0//NONSGML v1.0//EN
CALSCALE:GREGORIAN
METHOD:PUBLISH
X-WR-CALNAME:Stampede Breakfast 2025
X-ORIGINAL-URL:https://stampedebreakfast.ca
X-WR-CALDESC:Events for Stampede Breakfast 2025
REFRESH-INTERVAL;VALUE=DURATION:PT1H
X-Robots-Tag:noindex
X-PUBLISHED-TTL:PT1H
BEGIN:VTIMEZONE
TZID:America/Chicago
BEGIN:DAYLIGHT
TZOFFSETFROM:-0600
TZOFFSETTO:-0500
TZNAME:CDT
DTSTART:20250309T080000
END:DAYLIGHT
BEGIN:STANDARD
TZOFFSETFROM:-0500
TZOFFSETTO:-0600
TZNAME:CST
DTSTART:20251102T070000
END:STANDARD
END:VTIMEZONE
BEGIN:VEVENT
DTSTART;TZID=America/Chicago:20250705T123000
DTEND;TZID=America/Chicago:20250705T140000
DTSTAMP:20260421T035239
CREATED:20250703T152632Z
LAST-MODIFIED:20250703T152632Z
UID:11608-1751718600-1751724000@stampedebreakfast.ca
SUMMARY:ORIGIN BREWING PANCAKES
DESCRIPTION:🍻🥞 Beer Pancakes with Raspberry Syrup – A Stampede Treat at Origin Brewing \n  \nGet ready for a Stampede breakfast like no other! At Origin Brewing\, we’re flipping up golden\, fluffy beer pancakes made with our very own craft brew—adding a rich\, malty depth you won’t find in your average flapjack. \n  \nTopped with a vibrant raspberry syrup\, each bite bursts with tangy-sweet flavor that perfectly balances the beer-infused goodness. Whether you’re fueling up for the day or just here for the good times\, this combo is guaranteed to satisfy your Stampede cravings. \n  \nAdd a cold pint\, some great company\, and live music—and you’ve got the ultimate Calgary morning. \n  \n📍 Origin Brewing\, 943 28 St NE\, Calgary \n🕧 Saturday\, 12:30 PM – 2:00 PM \n🎉 Hosted by the Calgary Beer Enthusiasts \nYAHOO!
URL:https://stampedebreakfast.ca/event/origin-brewing-pancakes/
END:VEVENT
END:VCALENDAR