BEGIN:VCALENDAR
VERSION:2.0
PRODID:-//Stampede Breakfast 2025 - ECPv6.14.0//NONSGML v1.0//EN
CALSCALE:GREGORIAN
METHOD:PUBLISH
X-WR-CALNAME:Stampede Breakfast 2025
X-ORIGINAL-URL:https://stampedebreakfast.ca
X-WR-CALDESC:Events for Stampede Breakfast 2025
REFRESH-INTERVAL;VALUE=DURATION:PT1H
X-Robots-Tag:noindex
X-PUBLISHED-TTL:PT1H
BEGIN:VTIMEZONE
TZID:America/Chicago
BEGIN:DAYLIGHT
TZOFFSETFROM:-0600
TZOFFSETTO:-0500
TZNAME:CDT
DTSTART:20250309T080000
END:DAYLIGHT
BEGIN:STANDARD
TZOFFSETFROM:-0500
TZOFFSETTO:-0600
TZNAME:CST
DTSTART:20251102T070000
END:STANDARD
END:VTIMEZONE
BEGIN:VEVENT
DTSTART;TZID=America/Chicago:20250706T110000
DTEND;TZID=America/Chicago:20250706T140000
DTSTAMP:20260421T043348
CREATED:20250619T113527Z
LAST-MODIFIED:20250619T113527Z
UID:8826-1751799600-1751810400@stampedebreakfast.ca
SUMMARY:Gramsterdam Cannabis Stampede BBQ
DESCRIPTION:We’re inviting you to our 4th Annual Stampede Celebration on Sunday\, July 6th from 11 AM to 2 PM located at 5700 Falsbridge Dr N.E.  Join us for free BBQ\, games\, grand prizes\, and a whole lot of fun. It’s a kid- and pet-friendly event\, so bring the whole family and help us celebrate in true Stampede spirit. This is our way of saying thank you for your continued support and for being such a big part of what we do. We can’t wait to see you there!
URL:https://stampedebreakfast.ca/event/gramsterdam-cannabis-stampede-bbq/
LOCATION:Gramsterdam Cannabis\, 5700 FALSBRIDGE DRIVE\, Calgary\, Alberta\, T3J4X5\, Canada
CATEGORIES:North East Calgary
ATTACH;FMTTYPE=image/jpeg:https://stampedebreakfast.ca/wp-content/uploads/2025/06/70459C24-5700-45C5-B7ED-E50D82EC9BC4.jpg
ORGANIZER;CN="Gramsterdam Cannabis":MAILTO:avneet@gramsterdam.ca
END:VEVENT
END:VCALENDAR